BEGIN:VCALENDAR
VERSION:2.0
PRODID:-//Jennewein Mauggen e. V. - ECPv6.15.17//NONSGML v1.0//EN
CALSCALE:GREGORIAN
METHOD:PUBLISH
X-WR-CALNAME:Jennewein Mauggen e. V.
X-ORIGINAL-URL:https://mauggen.de
X-WR-CALDESC:Veranstaltungen für Jennewein Mauggen e. V.
REFRESH-INTERVAL;VALUE=DURATION:PT1H
X-Robots-Tag:noindex
X-PUBLISHED-TTL:PT1H
BEGIN:VTIMEZONE
TZID:UTC
BEGIN:STANDARD
TZOFFSETFROM:+0000
TZOFFSETTO:+0000
TZNAME:UTC
DTSTART:20240101T000000
END:STANDARD
END:VTIMEZONE
BEGIN:VEVENT
DTSTART;TZID=UTC:20250404T190000
DTEND;TZID=UTC:20250404T190000
DTSTAMP:20260421T204954
CREATED:20241212T190757Z
LAST-MODIFIED:20241212T190759Z
UID:585-1743793200-1743793200@mauggen.de
SUMMARY:ENDSCHIESSEN
DESCRIPTION:
URL:https://mauggen.de/event/endschiessen/
LOCATION:Schützenheim Mauggen\, Mauggen 53A\, Bockhorn\, Bayern\, 85461\, Germany
END:VEVENT
BEGIN:VEVENT
DTSTART;TZID=UTC:20250411T190000
DTEND;TZID=UTC:20250411T190000
DTSTAMP:20260421T204954
CREATED:20241212T190842Z
LAST-MODIFIED:20241212T190845Z
UID:587-1744398000-1744398000@mauggen.de
SUMMARY:OSTEREIERSCHIESSEN
DESCRIPTION:
URL:https://mauggen.de/event/ostereierschiessen/
LOCATION:Schützenheim Mauggen\, Mauggen 53A\, Bockhorn\, Bayern\, 85461\, Germany
END:VEVENT
BEGIN:VEVENT
DTSTART;TZID=UTC:20250420T200000
DTEND;TZID=UTC:20250420T200000
DTSTAMP:20260421T204954
CREATED:20241212T082059Z
LAST-MODIFIED:20250105T123358Z
UID:432-1745179200-1745179200@mauggen.de
SUMMARY:HOPPY & HOT
DESCRIPTION:
URL:https://mauggen.de/event/hoppy-hot/
LOCATION:Schützenheim Mauggen\, Mauggen 53A\, Bockhorn\, Bayern\, 85461\, Germany
ATTACH;FMTTYPE=image/png:https://mauggen.de/wp-content/uploads/2024/12/Hoppy_Hot.png
END:VEVENT
BEGIN:VEVENT
DTSTART;TZID=UTC:20250425T200000
DTEND;TZID=UTC:20250425T200000
DTSTAMP:20260421T204954
CREATED:20241212T082339Z
LAST-MODIFIED:20241212T082349Z
UID:436-1745611200-1745611200@mauggen.de
SUMMARY:PAYBACK PARTY
DESCRIPTION:
URL:https://mauggen.de/event/payback-party/
LOCATION:Schützenheim Mauggen\, Mauggen 53A\, Bockhorn\, Bayern\, 85461\, Germany
ATTACH;FMTTYPE=image/png:https://mauggen.de/wp-content/uploads/2024/12/Paypack_Party.png
END:VEVENT
BEGIN:VEVENT
DTSTART;TZID=UTC:20250426T180000
DTEND;TZID=UTC:20250426T180000
DTSTAMP:20260421T204954
CREATED:20250309T101000Z
LAST-MODIFIED:20250309T101014Z
UID:649-1745690400-1745690400@mauggen.de
SUMMARY:SCHAFKOPFTURNIER
DESCRIPTION:
URL:https://mauggen.de/event/schafkopfturnier/
LOCATION:Schützenheim Mauggen\, Mauggen 53A\, Bockhorn\, Bayern\, 85461\, Germany
ATTACH;FMTTYPE=image/png:https://mauggen.de/wp-content/uploads/2025/03/Schafkopfturnier.png
END:VEVENT
BEGIN:VEVENT
DTSTART;TZID=UTC:20250427T100000
DTEND;TZID=UTC:20250427T100000
DTSTAMP:20260421T204954
CREATED:20250309T101228Z
LAST-MODIFIED:20250309T101240Z
UID:651-1745748000-1745748000@mauggen.de
SUMMARY:MUSIKALISCHER FRÜHSCHOPPEN
DESCRIPTION:
URL:https://mauggen.de/event/musikalischer-fruehschoppen/
LOCATION:Schützenheim Mauggen\, Mauggen 53A\, Bockhorn\, Bayern\, 85461\, Germany
ATTACH;FMTTYPE=image/png:https://mauggen.de/wp-content/uploads/2025/03/Fruehschoppen.png
END:VEVENT
END:VCALENDAR