BEGIN:VCALENDAR
VERSION:2.0
PRODID:-//Jennewein Mauggen e. V. - ECPv6.15.17//NONSGML v1.0//EN
CALSCALE:GREGORIAN
METHOD:PUBLISH
X-WR-CALNAME:Jennewein Mauggen e. V.
X-ORIGINAL-URL:https://mauggen.de
X-WR-CALDESC:Veranstaltungen für Jennewein Mauggen e. V.
REFRESH-INTERVAL;VALUE=DURATION:PT1H
X-Robots-Tag:noindex
X-PUBLISHED-TTL:PT1H
BEGIN:VTIMEZONE
TZID:UTC
BEGIN:STANDARD
TZOFFSETFROM:+0000
TZOFFSETTO:+0000
TZNAME:UTC
DTSTART:20240101T000000
END:STANDARD
END:VTIMEZONE
BEGIN:VEVENT
DTSTART;TZID=UTC:20250228T190000
DTEND;TZID=UTC:20250228T190000
DTSTAMP:20260421T232621
CREATED:20241212T190424Z
LAST-MODIFIED:20241212T190427Z
UID:576-1740769200-1740769200@mauggen.de
SUMMARY:FASCHINGSSCHIESSEN
DESCRIPTION:
URL:https://mauggen.de/event/faschingsschiessen/
LOCATION:Schützenheim Mauggen\, Mauggen 53A\, Bockhorn\, Bayern\, 85461\, Germany
END:VEVENT
END:VCALENDAR