BEGIN:VCALENDAR
VERSION:2.0
PRODID:-//Jennewein Mauggen e. V. - ECPv6.15.17//NONSGML v1.0//EN
CALSCALE:GREGORIAN
METHOD:PUBLISH
X-ORIGINAL-URL:https://mauggen.de
X-WR-CALDESC:Veranstaltungen für Jennewein Mauggen e. V.
REFRESH-INTERVAL;VALUE=DURATION:PT1H
X-Robots-Tag:noindex
X-PUBLISHED-TTL:PT1H
BEGIN:VTIMEZONE
TZID:UTC
BEGIN:STANDARD
TZOFFSETFROM:+0000
TZOFFSETTO:+0000
TZNAME:UTC
DTSTART:20240101T000000
END:STANDARD
END:VTIMEZONE
BEGIN:VEVENT
DTSTART;TZID=UTC:20250426T180000
DTEND;TZID=UTC:20250426T180000
DTSTAMP:20260421T221336
CREATED:20250309T101000Z
LAST-MODIFIED:20250309T101014Z
UID:649-1745690400-1745690400@mauggen.de
SUMMARY:SCHAFKOPFTURNIER
DESCRIPTION:
URL:https://mauggen.de/event/schafkopfturnier/
LOCATION:Schützenheim Mauggen\, Mauggen 53A\, Bockhorn\, Bayern\, 85461\, Germany
ATTACH;FMTTYPE=image/png:https://mauggen.de/wp-content/uploads/2025/03/Schafkopfturnier.png
END:VEVENT
END:VCALENDAR